BEGIN:VCALENDAR
VERSION:2.0
PRODID:-// - ECPv6.15.13//NONSGML v1.0//EN
CALSCALE:GREGORIAN
METHOD:PUBLISH
X-ORIGINAL-URL:https://choeurdhommes-saintlouis.fr
X-WR-CALDESC:Évènements pour 
REFRESH-INTERVAL;VALUE=DURATION:PT1H
X-Robots-Tag:noindex
X-PUBLISHED-TTL:PT1H
BEGIN:VTIMEZONE
TZID:Europe/Paris
BEGIN:DAYLIGHT
TZOFFSETFROM:+0100
TZOFFSETTO:+0200
TZNAME:CEST
DTSTART:20190331T010000
END:DAYLIGHT
BEGIN:STANDARD
TZOFFSETFROM:+0200
TZOFFSETTO:+0100
TZNAME:CET
DTSTART:20191027T010000
END:STANDARD
BEGIN:DAYLIGHT
TZOFFSETFROM:+0100
TZOFFSETTO:+0200
TZNAME:CEST
DTSTART:20200329T010000
END:DAYLIGHT
BEGIN:STANDARD
TZOFFSETFROM:+0200
TZOFFSETTO:+0100
TZNAME:CET
DTSTART:20201025T010000
END:STANDARD
BEGIN:DAYLIGHT
TZOFFSETFROM:+0100
TZOFFSETTO:+0200
TZNAME:CEST
DTSTART:20210328T010000
END:DAYLIGHT
BEGIN:STANDARD
TZOFFSETFROM:+0200
TZOFFSETTO:+0100
TZNAME:CET
DTSTART:20211031T010000
END:STANDARD
END:VTIMEZONE
BEGIN:VEVENT
DTSTART;TZID=Europe/Paris:20200223T170000
DTEND;TZID=Europe/Paris:20200223T183000
DTSTAMP:20260424T113305
CREATED:20200208T091526Z
LAST-MODIFIED:20200221T172726Z
UID:4977-1582477200-1582482600@choeurdhommes-saintlouis.fr
SUMMARY:Concert de bienfaisance pour Marjorie
DESCRIPTION:Deux Choeurs d’hommes chantent pour Marjorie. \nLe choeur d’hommes « Concordia » de Blotzheim\, et le choeur d’hommes de Saint-louis & Union Chorale Wespe et le Scots Pipes Memorial donnent un concert pour l’association « Marjorie pour des doigts de fée. Rendez-vous le 23 Février en l’église Saint-Pierre et Paul de Waldighoffen à 17h. \n \n  \n  \n  \n \n  \n  \n  \n  \n  \n  \n 
URL:https://choeurdhommes-saintlouis.fr/event/concert-de-bienfaisance-pour-marjorie/
LOCATION:Eglise Saint-Pierre et Paul de Waldighoffen\, 35\, rue de la république\, Waldighoffen\, Ht Rhin\, 68640\, France
END:VEVENT
END:VCALENDAR